BEGIN:VCALENDAR
VERSION:2.0
PRODID:-//Restore The Heart - ECPv6.15.20//NONSGML v1.0//EN
CALSCALE:GREGORIAN
METHOD:PUBLISH
X-WR-CALNAME:Restore The Heart
X-ORIGINAL-URL:https://restoretheheart.org
X-WR-CALDESC:Events for Restore The Heart
REFRESH-INTERVAL;VALUE=DURATION:PT1H
X-Robots-Tag:noindex
X-PUBLISHED-TTL:PT1H
BEGIN:VTIMEZONE
TZID:Asia/Karachi
BEGIN:STANDARD
TZOFFSETFROM:+0500
TZOFFSETTO:+0500
TZNAME:PKT
DTSTART:20230101T000000
END:STANDARD
END:VTIMEZONE
BEGIN:VEVENT
DTSTART;TZID=Asia/Karachi:20240111T190000
DTEND;TZID=Asia/Karachi:20240111T203000
DTSTAMP:20260421T020146
CREATED:20240102T172633Z
LAST-MODIFIED:20240103T220514Z
UID:4487-1704999600-1705005000@restoretheheart.org
SUMMARY:Reiki Chakra Cleanse
DESCRIPTION:The Chakras are “wheels of energy” that govern our bodies and represent the physical\, emotional and spiritual aspects of our lives. Through guided meditation\, master level reiki and sound healing frequencies\, we will open and rebalance the chakras so that energy can flow more freely ~ an essential component to our overall well-being. \nJoin Kelly for this special event at the candlelit studio of Sacred Space Meditation in Tenafly\, NJ. \nPlease register at least 2-hours in advance HERE (walk-ins are not guaranteed entry). See you on Thursday\, January 11th!
URL:https://restoretheheart.org/event/48/
LOCATION:Sacred Space Meditation\, 32 Washington St\, Tenafly\, NJ\, 07670
CATEGORIES:Reiki Chakra Cleanse
ATTACH;FMTTYPE=image/png:https://restoretheheart.org/wp-content/uploads/2024/01/STARSEED-CIRCLE-PNG-EVENTS-CALENDAR.png
END:VEVENT
END:VCALENDAR