BEGIN:VCALENDAR
VERSION:2.0
PRODID:-//Restore The Heart - ECPv6.15.20//NONSGML v1.0//EN
CALSCALE:GREGORIAN
METHOD:PUBLISH
X-WR-CALNAME:Restore The Heart
X-ORIGINAL-URL:https://restoretheheart.org
X-WR-CALDESC:Events for Restore The Heart
REFRESH-INTERVAL;VALUE=DURATION:PT1H
X-Robots-Tag:noindex
X-PUBLISHED-TTL:PT1H
BEGIN:VTIMEZONE
TZID:America/New_York
BEGIN:DAYLIGHT
TZOFFSETFROM:-0500
TZOFFSETTO:-0400
TZNAME:EDT
DTSTART:20230312T070000
END:DAYLIGHT
BEGIN:STANDARD
TZOFFSETFROM:-0400
TZOFFSETTO:-0500
TZNAME:EST
DTSTART:20231105T060000
END:STANDARD
BEGIN:DAYLIGHT
TZOFFSETFROM:-0500
TZOFFSETTO:-0400
TZNAME:EDT
DTSTART:20240310T070000
END:DAYLIGHT
BEGIN:STANDARD
TZOFFSETFROM:-0400
TZOFFSETTO:-0500
TZNAME:EST
DTSTART:20241103T060000
END:STANDARD
BEGIN:DAYLIGHT
TZOFFSETFROM:-0500
TZOFFSETTO:-0400
TZNAME:EDT
DTSTART:20250309T070000
END:DAYLIGHT
BEGIN:STANDARD
TZOFFSETFROM:-0400
TZOFFSETTO:-0500
TZNAME:EST
DTSTART:20251102T060000
END:STANDARD
END:VTIMEZONE
BEGIN:VEVENT
DTSTART;TZID=America/New_York:20240318T110000
DTEND;TZID=America/New_York:20240318T120000
DTSTAMP:20260422T223124
CREATED:20240306T192410Z
LAST-MODIFIED:20240306T192410Z
UID:4535-1710759600-1710763200@restoretheheart.org
SUMMARY:Sound Meditation
DESCRIPTION:Join Kelly for a restorative journey designed to create more alignment and lift your vibration. \nInfused with master-level reiki\, light language and nourishing sound healing frequencies\, Kelly will guide you through a heart-led meditation for alchemizing energetic blocks\, restoring life force energy and awakening more of who you truly are. \nPrepare to leave this class feeling uplifted\, expanded\, with a greater sense of clarity\, purpose and connection with all that there is. \nPlease register at least 2-hours in advance HERE (walk-ins are not guaranteed entry). See you on Monday\, March 18th!
URL:https://restoretheheart.org/event/53/
LOCATION:Sacred Space Meditation\, 32 Washington St\, Tenafly\, NJ\, 07670
CATEGORIES:Restore With Kelly
ATTACH;FMTTYPE=image/png:https://restoretheheart.org/wp-content/uploads/2024/02/Restore-With-Kelly.png
END:VEVENT
BEGIN:VEVENT
DTSTART;TZID=America/New_York:20240323T100000
DTEND;TZID=America/New_York:20240323T110000
DTSTAMP:20260422T223124
CREATED:20240223T165226Z
LAST-MODIFIED:20240223T165456Z
UID:4531-1711188000-1711191600@restoretheheart.org
SUMMARY:Sound Meditation
DESCRIPTION:Join Kelly for a restorative journey designed to create more alignment and lift your vibration. \nInfused with master-level reiki\, light language and nourishing sound healing frequencies\, Kelly will guide you through a heart-led meditation for alchemizing energetic blocks\, restoring life force energy and awakening more of who you truly are. \nPrepare to leave this class feeling uplifted\, expanded\, with a greater sense of clarity\, purpose and connection with all that there is. \nPlease register at least 2-hours in advance HERE (walk-ins are not guaranteed entry). See you on Saturday\, March 23rd!
URL:https://restoretheheart.org/event/52/
LOCATION:Sacred Space Meditation\, 32 Washington St\, Tenafly\, NJ\, 07670
CATEGORIES:Restore With Kelly
ATTACH;FMTTYPE=image/png:https://restoretheheart.org/wp-content/uploads/2024/02/Restore-With-Kelly.png
END:VEVENT
BEGIN:VEVENT
DTSTART;TZID=America/New_York:20240325T110000
DTEND;TZID=America/New_York:20240325T120000
DTSTAMP:20260422T223124
CREATED:20240306T192612Z
LAST-MODIFIED:20240306T192612Z
UID:4537-1711364400-1711368000@restoretheheart.org
SUMMARY:Sound Meditation
DESCRIPTION:Join Kelly for a restorative journey designed to create more alignment and lift your vibration. \nInfused with master-level reiki\, light language and nourishing sound healing frequencies\, Kelly will guide you through a heart-led meditation for alchemizing energetic blocks\, restoring life force energy and awakening more of who you truly are. \nPrepare to leave this class feeling uplifted\, expanded\, with a greater sense of clarity\, purpose and connection with all that there is. \nPlease register at least 2-hours in advance HERE (walk-ins are not guaranteed entry). See you on Monday\, March 25th!
URL:https://restoretheheart.org/event/54/
LOCATION:Sacred Space Meditation\, 32 Washington St\, Tenafly\, NJ\, 07670
CATEGORIES:Restore With Kelly
ATTACH;FMTTYPE=image/png:https://restoretheheart.org/wp-content/uploads/2024/02/Restore-With-Kelly.png
END:VEVENT
END:VCALENDAR