BEGIN:VCALENDAR
VERSION:2.0
PRODID:-//Restore The Heart - ECPv6.15.20//NONSGML v1.0//EN
CALSCALE:GREGORIAN
METHOD:PUBLISH
X-ORIGINAL-URL:https://restoretheheart.org
X-WR-CALDESC:Events for Restore The Heart
REFRESH-INTERVAL;VALUE=DURATION:PT1H
X-Robots-Tag:noindex
X-PUBLISHED-TTL:PT1H
BEGIN:VTIMEZONE
TZID:America/New_York
BEGIN:DAYLIGHT
TZOFFSETFROM:-0500
TZOFFSETTO:-0400
TZNAME:EDT
DTSTART:20230312T070000
END:DAYLIGHT
BEGIN:STANDARD
TZOFFSETFROM:-0400
TZOFFSETTO:-0500
TZNAME:EST
DTSTART:20231105T060000
END:STANDARD
BEGIN:DAYLIGHT
TZOFFSETFROM:-0500
TZOFFSETTO:-0400
TZNAME:EDT
DTSTART:20240310T070000
END:DAYLIGHT
BEGIN:STANDARD
TZOFFSETFROM:-0400
TZOFFSETTO:-0500
TZNAME:EST
DTSTART:20241103T060000
END:STANDARD
BEGIN:DAYLIGHT
TZOFFSETFROM:-0500
TZOFFSETTO:-0400
TZNAME:EDT
DTSTART:20250309T070000
END:DAYLIGHT
BEGIN:STANDARD
TZOFFSETFROM:-0400
TZOFFSETTO:-0500
TZNAME:EST
DTSTART:20251102T060000
END:STANDARD
END:VTIMEZONE
BEGIN:VEVENT
DTSTART;TZID=America/New_York:20240103T100000
DTEND;TZID=America/New_York:20240103T110000
DTSTAMP:20260423T043908
CREATED:20231113T134326Z
LAST-MODIFIED:20231222T231751Z
UID:4326-1704276000-1704279600@restoretheheart.org
SUMMARY:Restore With Kelly
DESCRIPTION:Join Kelly for a restorative journey designed to create more alignment and lift your vibration. \nInfused with master-level reiki\, light language and nourishing sound healing frequencies\, Kelly will guide you through a heart-led meditation for alchemizing energetic blocks\, restoring life force energy and awakening more of who you truly are. \nPrepare to leave this class feeling uplifted\, expanded\, with a greater sense of clarity\, purpose and connection with all that there is. \nPURCHASE
URL:https://restoretheheart.org/event/42/
LOCATION:Sacred Space Meditation\, 32 Washington St\, Tenafly\, NJ\, 07670
CATEGORIES:Restore With Kelly
ATTACH;FMTTYPE=image/png:https://restoretheheart.org/wp-content/uploads/2023/03/Restore-With-Kelly.png
END:VEVENT
END:VCALENDAR