BEGIN:VCALENDAR
VERSION:2.0
PRODID:-//Restore The Heart - ECPv6.15.20//NONSGML v1.0//EN
CALSCALE:GREGORIAN
METHOD:PUBLISH
X-ORIGINAL-URL:https://restoretheheart.org
X-WR-CALDESC:Events for Restore The Heart
REFRESH-INTERVAL;VALUE=DURATION:PT1H
X-Robots-Tag:noindex
X-PUBLISHED-TTL:PT1H
BEGIN:VTIMEZONE
TZID:Asia/Karachi
BEGIN:STANDARD
TZOFFSETFROM:+0500
TZOFFSETTO:+0500
TZNAME:PKT
DTSTART:20230101T000000
END:STANDARD
END:VTIMEZONE
BEGIN:VEVENT
DTSTART;TZID=Asia/Karachi:20240110T100000
DTEND;TZID=Asia/Karachi:20240110T110000
DTSTAMP:20260423T042652
CREATED:20231222T231722Z
LAST-MODIFIED:20231222T231831Z
UID:4475-1704880800-1704884400@restoretheheart.org
SUMMARY:Restore With Kelly
DESCRIPTION:Join Kelly for a restorative journey designed to create more alignment and lift your vibration. \nInfused with master-level reiki\, light language and nourishing sound healing frequencies\, Kelly will guide you through a heart-led meditation for alchemizing energetic blocks\, restoring life force energy and awakening more of who you truly are. \nPrepare to leave this class feeling uplifted\, expanded\, with a greater sense of clarity\, purpose and connection with all that there is. \nPURCHASE
URL:https://restoretheheart.org/event/44/
LOCATION:Sacred Space Meditation\, 32 Washington St\, Tenafly\, NJ\, 07670
CATEGORIES:Restore With Kelly
ATTACH;FMTTYPE=image/png:https://restoretheheart.org/wp-content/uploads/2023/03/Restore-With-Kelly.png
END:VEVENT
END:VCALENDAR