BEGIN:VCALENDAR
VERSION:2.0
PRODID:-//Restore The Heart - ECPv6.15.20//NONSGML v1.0//EN
CALSCALE:GREGORIAN
METHOD:PUBLISH
X-WR-CALNAME:Restore The Heart
X-ORIGINAL-URL:https://restoretheheart.org
X-WR-CALDESC:Events for Restore The Heart
REFRESH-INTERVAL;VALUE=DURATION:PT1H
X-Robots-Tag:noindex
X-PUBLISHED-TTL:PT1H
BEGIN:VTIMEZONE
TZID:Asia/Karachi
BEGIN:STANDARD
TZOFFSETFROM:+0500
TZOFFSETTO:+0500
TZNAME:PKT
DTSTART:20220101T000000
END:STANDARD
END:VTIMEZONE
BEGIN:VEVENT
DTSTART;TZID=Asia/Karachi:20230320T190000
DTEND;TZID=Asia/Karachi:20230320T203000
DTSTAMP:20260423T081819
CREATED:20230302T195227Z
LAST-MODIFIED:20230306T232157Z
UID:4101-1679338800-1679344200@restoretheheart.org
SUMMARY:Spring Into The New
DESCRIPTION:Harness the energetics of the Spring Equinox to birth new possibilities and anchor into your highest desired reality. \nAs the Sun body aligns with the Earth’s equator\, we experience an equilibrium of both day and night. This rebalancing of energies facilitates an opportunity to access a more centered point of creation within ourselves. Learn how to work with this ‘zero point frequency’ to harmonize and create new possibilities. \nThis special event will be accompanied with a heart-led meditation and sound journey led by Kelly Joachim. \nPURCHASE
URL:https://restoretheheart.org/event/15/
LOCATION:Sacred Space Meditation\, 32 Washington St\, Tenafly\, NJ\, 07670
CATEGORIES:Special Event
ATTACH;FMTTYPE=image/png:https://restoretheheart.org/wp-content/uploads/2023/03/STARSEED-CIRCLE-PNG-EVENTS-CALENDAR.png
END:VEVENT
END:VCALENDAR