BEGIN:VCALENDAR
VERSION:2.0
PRODID:-//Restore The Heart - ECPv6.15.20//NONSGML v1.0//EN
CALSCALE:GREGORIAN
METHOD:PUBLISH
X-WR-CALNAME:Restore The Heart
X-ORIGINAL-URL:https://restoretheheart.org
X-WR-CALDESC:Events for Restore The Heart
REFRESH-INTERVAL;VALUE=DURATION:PT1H
X-Robots-Tag:noindex
X-PUBLISHED-TTL:PT1H
BEGIN:VTIMEZONE
TZID:Asia/Karachi
BEGIN:STANDARD
TZOFFSETFROM:+0500
TZOFFSETTO:+0500
TZNAME:PKT
DTSTART:20220101T000000
END:STANDARD
END:VTIMEZONE
BEGIN:VTIMEZONE
TZID:America/Halifax
BEGIN:DAYLIGHT
TZOFFSETFROM:-0400
TZOFFSETTO:-0300
TZNAME:ADT
DTSTART:20220313T060000
END:DAYLIGHT
BEGIN:STANDARD
TZOFFSETFROM:-0300
TZOFFSETTO:-0400
TZNAME:AST
DTSTART:20221106T050000
END:STANDARD
BEGIN:DAYLIGHT
TZOFFSETFROM:-0400
TZOFFSETTO:-0300
TZNAME:ADT
DTSTART:20230312T060000
END:DAYLIGHT
BEGIN:STANDARD
TZOFFSETFROM:-0300
TZOFFSETTO:-0400
TZNAME:AST
DTSTART:20231105T050000
END:STANDARD
BEGIN:DAYLIGHT
TZOFFSETFROM:-0400
TZOFFSETTO:-0300
TZNAME:ADT
DTSTART:20240310T060000
END:DAYLIGHT
BEGIN:STANDARD
TZOFFSETFROM:-0300
TZOFFSETTO:-0400
TZNAME:AST
DTSTART:20241103T050000
END:STANDARD
END:VTIMEZONE
BEGIN:VEVENT
DTSTART;TZID=Asia/Karachi:20230504T120000
DTEND;TZID=Asia/Karachi:20230504T130000
DTSTAMP:20260423T051416
CREATED:20230413T162941Z
LAST-MODIFIED:20230413T163204Z
UID:4153-1683201600-1683205200@restoretheheart.org
SUMMARY:Starseed Apprenticeship (May 4 - July 20)
DESCRIPTION:Do you ever feel a yearning\, a longing that you can’t quite explain? \nIs spirit guiding you towards a greater sense of connection and purpose\, however you’re just not quite sure what to do or how to get started? \nPerhaps you’ve been committed to doing incredible inner work and experienced profound shifts in your life\, but you’re feeling a bit stuck right now – like there’s more for you to learn and explore. \nStarseed Apprenticeship is for YOU if you’re ready to:\n✧ anchor a higher level of self-trust and confidence in your purpose\n✧ supercharge your psychic gifts and become a clear channel for intuitive guidance\n✧ access a deeper level of soul repair and higher self embodiment\n✧ receive a reliable framework for practicing energy work\n✧ explore the higher realms of what’s possible and embrace your infinite potential \nJoin Kelly & the Starseed Council of Light for this 3-month evolutionary journey of self-mastery. We start May 4th at Sacred Space Meditation in Tenafly\, NJ! \nTo learn more and register\, please visit:\nhttps://sacred-spaceliving.com/starseed-apprenticeship
URL:https://restoretheheart.org/event/events-starseed-apprenticeship/
LOCATION:Sacred Space Meditation\, 32 Washington St\, Tenafly\, NJ\, 07670
CATEGORIES:Special Event
ATTACH;FMTTYPE=image/png:https://restoretheheart.org/wp-content/uploads/2023/04/STARSEED-APPRENTICESHIP-3.png
END:VEVENT
BEGIN:VEVENT
DTSTART;TZID=America/Halifax:20230522T190000
DTEND;TZID=America/Halifax:20230522T203000
DTSTAMP:20260423T051416
CREATED:20230517T175838Z
LAST-MODIFIED:20230517T180015Z
UID:4226-1684782000-1684787400@restoretheheart.org
SUMMARY:Reiki Restore & Sound Bath
DESCRIPTION:A hands-on immersive journey through Sound and Reiki. Join Tania Gold and Kelly Joachim for this magical evening in the candlelit studio of Sacred Space Meditation (Tenafly\, NJ). \nReiki and Sound are two forms of vibrational medicine that help to rebalance and harmonize the mind\, body and spirit complexes. We’ll start with a guided meditation to prepare you for a transformative healing experience.  Reiki energy will heighten the sensory experience of the sound bath elevating you to a more peaceful and relaxed state. \nPlease register at least 2-hours in advance HERE (walk-ins are not guaranteed entry). See you on May 22nd!
URL:https://restoretheheart.org/event/23/
LOCATION:Sacred Space Meditation\, 32 Washington St\, Tenafly\, NJ\, 07670
CATEGORIES:Special Event
ATTACH;FMTTYPE=image/png:https://restoretheheart.org/wp-content/uploads/2023/05/STARSEED-CIRCLE-PNG-EVENTS-CALENDAR.png
END:VEVENT
END:VCALENDAR