BEGIN:VCALENDAR
VERSION:2.0
PRODID:-//Restore The Heart - ECPv6.15.20//NONSGML v1.0//EN
CALSCALE:GREGORIAN
METHOD:PUBLISH
X-WR-CALNAME:Restore The Heart
X-ORIGINAL-URL:https://restoretheheart.org
X-WR-CALDESC:Events for Restore The Heart
REFRESH-INTERVAL;VALUE=DURATION:PT1H
X-Robots-Tag:noindex
X-PUBLISHED-TTL:PT1H
BEGIN:VTIMEZONE
TZID:America/Halifax
BEGIN:DAYLIGHT
TZOFFSETFROM:-0400
TZOFFSETTO:-0300
TZNAME:ADT
DTSTART:20220313T060000
END:DAYLIGHT
BEGIN:STANDARD
TZOFFSETFROM:-0300
TZOFFSETTO:-0400
TZNAME:AST
DTSTART:20221106T050000
END:STANDARD
BEGIN:DAYLIGHT
TZOFFSETFROM:-0400
TZOFFSETTO:-0300
TZNAME:ADT
DTSTART:20230312T060000
END:DAYLIGHT
BEGIN:STANDARD
TZOFFSETFROM:-0300
TZOFFSETTO:-0400
TZNAME:AST
DTSTART:20231105T050000
END:STANDARD
BEGIN:DAYLIGHT
TZOFFSETFROM:-0400
TZOFFSETTO:-0300
TZNAME:ADT
DTSTART:20240310T060000
END:DAYLIGHT
BEGIN:STANDARD
TZOFFSETFROM:-0300
TZOFFSETTO:-0400
TZNAME:AST
DTSTART:20241103T050000
END:STANDARD
END:VTIMEZONE
BEGIN:VEVENT
DTSTART;TZID=America/Halifax:20230914T190000
DTEND;TZID=America/Halifax:20230914T210000
DTSTAMP:20260422T222110
CREATED:20230906T162539Z
LAST-MODIFIED:20230906T162722Z
UID:4255-1694718000-1694725200@restoretheheart.org
SUMMARY:Reiki Restore & Sound Bath
DESCRIPTION:A hands-on immersive journey through Sound and Reiki. Join Tania Gold and Kelly Joachim for this magical evening in the candlelit studio of Sacred Space Meditation (Tenafly\, NJ). \nReiki and Sound are two forms of vibrational medicine that help to rebalance and harmonize the mind\, body and spirit complexes. We’ll start with a guided meditation to prepare you for a transformative healing experience.  Reiki energy will heighten the sensory experience of the sound bath elevating you to a more peaceful and relaxed state. \nPlease register at least 2-hours in advance HERE (walk-ins are not guaranteed entry). See you on September 14th!
URL:https://restoretheheart.org/event/32/
LOCATION:Sacred Space Meditation\, 32 Washington St\, Tenafly\, NJ\, 07670
CATEGORIES:Reiki Soundbath
ATTACH;FMTTYPE=image/png:https://restoretheheart.org/wp-content/uploads/2023/05/STARSEED-CIRCLE-PNG-EVENTS-CALENDAR.png
END:VEVENT
END:VCALENDAR