BEGIN:VCALENDAR
VERSION:2.0
PRODID:-//Restore The Heart - ECPv6.15.20//NONSGML v1.0//EN
CALSCALE:GREGORIAN
METHOD:PUBLISH
X-WR-CALNAME:Restore The Heart
X-ORIGINAL-URL:https://restoretheheart.org
X-WR-CALDESC:Events for Restore The Heart
REFRESH-INTERVAL;VALUE=DURATION:PT1H
X-Robots-Tag:noindex
X-PUBLISHED-TTL:PT1H
BEGIN:VTIMEZONE
TZID:America/New_York
BEGIN:DAYLIGHT
TZOFFSETFROM:-0500
TZOFFSETTO:-0400
TZNAME:EDT
DTSTART:20230312T070000
END:DAYLIGHT
BEGIN:STANDARD
TZOFFSETFROM:-0400
TZOFFSETTO:-0500
TZNAME:EST
DTSTART:20231105T060000
END:STANDARD
BEGIN:DAYLIGHT
TZOFFSETFROM:-0500
TZOFFSETTO:-0400
TZNAME:EDT
DTSTART:20240310T070000
END:DAYLIGHT
BEGIN:STANDARD
TZOFFSETFROM:-0400
TZOFFSETTO:-0500
TZNAME:EST
DTSTART:20241103T060000
END:STANDARD
BEGIN:DAYLIGHT
TZOFFSETFROM:-0500
TZOFFSETTO:-0400
TZNAME:EDT
DTSTART:20250309T070000
END:DAYLIGHT
BEGIN:STANDARD
TZOFFSETFROM:-0400
TZOFFSETTO:-0500
TZNAME:EST
DTSTART:20251102T060000
END:STANDARD
END:VTIMEZONE
BEGIN:VTIMEZONE
TZID:America/Chicago
BEGIN:DAYLIGHT
TZOFFSETFROM:-0600
TZOFFSETTO:-0500
TZNAME:CDT
DTSTART:20230312T080000
END:DAYLIGHT
BEGIN:STANDARD
TZOFFSETFROM:-0500
TZOFFSETTO:-0600
TZNAME:CST
DTSTART:20231105T070000
END:STANDARD
BEGIN:DAYLIGHT
TZOFFSETFROM:-0600
TZOFFSETTO:-0500
TZNAME:CDT
DTSTART:20240310T080000
END:DAYLIGHT
BEGIN:STANDARD
TZOFFSETFROM:-0500
TZOFFSETTO:-0600
TZNAME:CST
DTSTART:20241103T070000
END:STANDARD
BEGIN:DAYLIGHT
TZOFFSETFROM:-0600
TZOFFSETTO:-0500
TZNAME:CDT
DTSTART:20250309T080000
END:DAYLIGHT
BEGIN:STANDARD
TZOFFSETFROM:-0500
TZOFFSETTO:-0600
TZNAME:CST
DTSTART:20251102T070000
END:STANDARD
END:VTIMEZONE
BEGIN:VEVENT
DTSTART;TZID=America/New_York:20240905T190000
DTEND;TZID=America/New_York:20240905T210000
DTSTAMP:20260422T024222
CREATED:20240826T155639Z
LAST-MODIFIED:20240826T155639Z
UID:4619-1725562800-1725570000@restoretheheart.org
SUMMARY:Reiki Restore & Soundbath
DESCRIPTION:A hands-on immersive journey through Sound and Reiki. Join Tania Gold and Kelly Joachim for this magical evening in the candlelit studio of Sacred Space Meditation (Tenafly\, NJ). \nReiki and Sound are two forms of vibrational medicine that help to rebalance and harmonize the mind\, body and spirit complexes. We’ll start with a guided meditation to prepare you for a transformative healing experience.  Reiki energy will heighten the sensory experience of the sound bath elevating you to a more peaceful and relaxed state. \nPlease register at least 2-hours in advance HERE (walk-ins are not guaranteed entry). See you on September 5th!
URL:https://restoretheheart.org/event/59/
LOCATION:Sacred Space Meditation\, 32 Washington St\, Tenafly\, NJ\, 07670
CATEGORIES:Reiki Soundbath
ATTACH;FMTTYPE=image/png:https://restoretheheart.org/wp-content/uploads/2024/01/STARSEED-CIRCLE-PNG-EVENTS-CALENDAR-1.png
END:VEVENT
BEGIN:VEVENT
DTSTART;VALUE=DATE:20240927
DTEND;VALUE=DATE:20240930
DTSTAMP:20260422T024222
CREATED:20240910T182643Z
LAST-MODIFIED:20240910T182921Z
UID:4621-1727395200-1727654399@restoretheheart.org
SUMMARY:Galactic Spiritual Informers Connection
DESCRIPTION:This year I will be featured as a Cosmic Vendor at the Galactic Spiritual Informers Connection in Denver\, Colorado from September 27 – 29th! \nAcross the 3-day event\, I will be offering for attendees semi-private ($33 USD) and private ($77 USD) restorative sound journeys infused with master-level reiki\, light language transmissions\, guided meditation & sound healing frequencies. \nPlease say hello and be sure to register for your preferred time slot! \n  \n  \n 
URL:https://restoretheheart.org/event/60/
LOCATION:The Westin Westminster\, 10600 Westminster Blvd\, Westminster\, CO\, 80020\, United States
CATEGORIES:Special Event
ATTACH;FMTTYPE=image/jpeg:https://restoretheheart.org/wp-content/uploads/2024/09/STARSEED-CIRCLE-PNG-EVENTS-CALENDAR-4.jpg
END:VEVENT
END:VCALENDAR