BEGIN:VCALENDAR
VERSION:2.0
PRODID:-//Restore The Heart - ECPv6.15.20//NONSGML v1.0//EN
CALSCALE:GREGORIAN
METHOD:PUBLISH
X-ORIGINAL-URL:https://restoretheheart.org
X-WR-CALDESC:Events for Restore The Heart
REFRESH-INTERVAL;VALUE=DURATION:PT1H
X-Robots-Tag:noindex
X-PUBLISHED-TTL:PT1H
BEGIN:VTIMEZONE
TZID:Asia/Karachi
BEGIN:STANDARD
TZOFFSETFROM:+0500
TZOFFSETTO:+0500
TZNAME:PKT
DTSTART:20240101T000000
END:STANDARD
END:VTIMEZONE
BEGIN:VEVENT
DTSTART;TZID=Asia/Karachi:20250320T190000
DTEND;TZID=Asia/Karachi:20250320T210000
DTSTAMP:20260421T122448
CREATED:20250305T183038Z
LAST-MODIFIED:20250305T183038Z
UID:4752-1742497200-1742504400@restoretheheart.org
SUMMARY:Spring Forward
DESCRIPTION:Twice a year\, the light of day and the dark of the night are equalized. This auspicious moment is called The Equinox. \nHarness the energetics of the Spring Equinox to birth new possibilities and anchor into new realities with this very special Reiki Sound Bath. \nWe’ll start with a guided meditation to prepare you for a transformative healing experience. Reiki energy will heighten the sensory experience of the sound bath while the vibration of light language and aroma therapy will elevate you to an even more peaceful and relaxed state. \nJoin Tania and Kelly for this multi-sensory evening set in the candlelit studio. Please register at least 2-hours in advance HERE (walk-ins are not guaranteed entry). See you on March 20th!
URL:https://restoretheheart.org/event/66-2/
LOCATION:Sacred Space Meditation\, 32 Washington St\, Tenafly\, NJ\, 07670
CATEGORIES:Special Event
ATTACH;FMTTYPE=image/jpeg:https://restoretheheart.org/wp-content/uploads/2025/03/STARSEED-CIRCLE-PNG-EVENTS-CALENDAR-6.jpg
END:VEVENT
BEGIN:VEVENT
DTSTART;TZID=Asia/Karachi:20250331T190000
DTEND;TZID=Asia/Karachi:20250331T203000
DTSTAMP:20260421T122448
CREATED:20250305T183713Z
LAST-MODIFIED:20250305T184044Z
UID:4756-1743447600-1743453000@restoretheheart.org
SUMMARY:Sacred Waters
DESCRIPTION:Immerse yourself in the healing properties of water to cleanse and purify your soul. \nEmbark on a special journey with Kelly in the candlelit studio for a mix of reiki\, sound and guided meditation. \nWater imagery and water sound frequencies will replenish your biofield\, helping you to unlock all the wisdom this sacred element has to offer. \nWater\, which holds memory and is a conduit for energy\, will also be honored through a water purification and charging ceremony. \nPlease register at least 2-hours in advance HERE (walk-ins are not guaranteed entry). See you on March 31st!
URL:https://restoretheheart.org/event/67/
LOCATION:Sacred Space Meditation\, 32 Washington St\, Tenafly\, NJ\, 07670
CATEGORIES:Special Event
ATTACH;FMTTYPE=image/jpeg:https://restoretheheart.org/wp-content/uploads/2025/03/STARSEED-CIRCLE-PNG-EVENTS-CALENDAR-5.jpg
END:VEVENT
END:VCALENDAR