BEGIN:VCALENDAR
VERSION:2.0
PRODID:-//Restore The Heart - ECPv6.15.20//NONSGML v1.0//EN
CALSCALE:GREGORIAN
METHOD:PUBLISH
X-ORIGINAL-URL:https://restoretheheart.org
X-WR-CALDESC:Events for Restore The Heart
REFRESH-INTERVAL;VALUE=DURATION:PT1H
X-Robots-Tag:noindex
X-PUBLISHED-TTL:PT1H
BEGIN:VTIMEZONE
TZID:America/New_York
BEGIN:DAYLIGHT
TZOFFSETFROM:-0500
TZOFFSETTO:-0400
TZNAME:EDT
DTSTART:20250309T070000
END:DAYLIGHT
BEGIN:STANDARD
TZOFFSETFROM:-0400
TZOFFSETTO:-0500
TZNAME:EST
DTSTART:20251102T060000
END:STANDARD
BEGIN:DAYLIGHT
TZOFFSETFROM:-0500
TZOFFSETTO:-0400
TZNAME:EDT
DTSTART:20260308T070000
END:DAYLIGHT
BEGIN:STANDARD
TZOFFSETFROM:-0400
TZOFFSETTO:-0500
TZNAME:EST
DTSTART:20261101T060000
END:STANDARD
BEGIN:DAYLIGHT
TZOFFSETFROM:-0500
TZOFFSETTO:-0400
TZNAME:EDT
DTSTART:20270314T070000
END:DAYLIGHT
BEGIN:STANDARD
TZOFFSETFROM:-0400
TZOFFSETTO:-0500
TZNAME:EST
DTSTART:20271107T060000
END:STANDARD
END:VTIMEZONE
BEGIN:VEVENT
DTSTART;TZID=America/New_York:20260112T190000
DTEND;TZID=America/New_York:20260112T200000
DTSTAMP:20260420T202540
CREATED:20251126T113520Z
LAST-MODIFIED:20251214T111604Z
UID:4857-1768244400-1768248000@restoretheheart.org
SUMMARY:Reiki Restore
DESCRIPTION:Alchemize energetic blocks and restore the flow of life force energy.  \nReiki Restore is an intimate (small group) Reiki healing session\, infused with master-level Reiki\, light language transmissions and sound healing frequencies.  \nKelly will intuitively tap into the collective group energies\, to deliver a supportive and insightful session for promoting deep cellular healing. \nPrepare to leave this class feeling more aligned\, with a greater sense of clarity\, purpose and connection with all that there is. \nLocation:\n20 Rosie Square\, Suite 119 | Wood-Ridge\, NJ 07075\nFree parking onsite \nBooking Policy:\nPlease arrive 5 minutes early. Doors lock promptly at the scheduled time. Due to class commencement\, late arrivals forfeit their ticket and will not be granted entry. \nJoin our WhatsApp group HERE to stay up to date with event announcements and special offers. \n—— \n“𝒯𝒽𝑒𝓇𝑒’𝓈 𝓂𝑜𝓇𝑒 𝒷𝑒𝓎𝑜𝓃𝒹 𝓉𝒽𝑒 𝓇𝑒𝑒𝒻”\nTikTok ✧ Instagram ✧ YouTube ✧ WhatsApp ✧ Telegram
URL:https://restoretheheart.org/event/75/
LOCATION:Restore The Heart\, 20 Rosie Square\, Suite 119\, Wood Ridge\, NJ\, 07075\, United States
CATEGORIES:Special Event
ATTACH;FMTTYPE=image/jpeg:https://restoretheheart.org/wp-content/uploads/2025/11/Reiki-Restore-1.jpg
END:VEVENT
BEGIN:VEVENT
DTSTART;TZID=America/New_York:20260128T130000
DTEND;TZID=America/New_York:20260128T140000
DTSTAMP:20260420T202540
CREATED:20251216T121936Z
LAST-MODIFIED:20251216T121936Z
UID:5030-1769605200-1769608800@restoretheheart.org
SUMMARY:Sound Bath Journey
DESCRIPTION:Calm your nervous system with a heart-led journey through sound.  \nImmerse yourself in the healing properties of Crystal Tones ™ alchemy singing bowls\, while being bathed in shamanic drums\, shakers\, tuning forks and more. \nThe resonant frequencies will quiet your mind\, shifting your brain from an active to deeply relaxed state for reducing stress and anxiety. \nThe vibrations are felt throughout the entire body dissolving tension\, dis-ease and restoring order to your energy centers. \nThis 1-hour soundscape will connect you with your inner sanctuary promoting greater levels of self-love\, acceptance and present awareness.  \nLocation:\n20 Rosie Square\, Suite 119 | Wood-Ridge\, NJ 07075\nFree parking onsite \nBooking Policy:\nPlease arrive 5 minutes early. Doors lock promptly at the scheduled time. Due to class commencement\, late arrivals forfeit their ticket and will not be granted entry. \nJoin our WhatsApp group HERE to stay up to date with event announcements and special offers. \n—— \n“𝒯𝒽𝑒𝓇𝑒’𝓈 𝓂𝑜𝓇𝑒 𝒷𝑒𝓎𝑜𝓃𝒹 𝓉𝒽𝑒 𝓇𝑒𝑒𝒻”\nTikTok ✧ Instagram ✧ YouTube ✧ WhatsApp ✧ Telegram
URL:https://restoretheheart.org/event/84/
LOCATION:Restore The Heart\, 20 Rosie Square\, Suite 119\, Wood Ridge\, NJ\, 07075\, United States
CATEGORIES:Special Event
ATTACH;FMTTYPE=image/jpeg:https://restoretheheart.org/wp-content/uploads/2025/11/Sound-Bath-Journey-1.jpg
END:VEVENT
END:VCALENDAR