BEGIN:VCALENDAR
VERSION:2.0
PRODID:-//Restore The Heart - ECPv6.15.20//NONSGML v1.0//EN
CALSCALE:GREGORIAN
METHOD:PUBLISH
X-ORIGINAL-URL:https://restoretheheart.org
X-WR-CALDESC:Events for Restore The Heart
REFRESH-INTERVAL;VALUE=DURATION:PT1H
X-Robots-Tag:noindex
X-PUBLISHED-TTL:PT1H
BEGIN:VTIMEZONE
TZID:UTC
BEGIN:STANDARD
TZOFFSETFROM:+0000
TZOFFSETTO:+0000
TZNAME:UTC
DTSTART:20240101T000000
END:STANDARD
END:VTIMEZONE
BEGIN:VEVENT
DTSTART;TZID=UTC:20250202T120000
DTEND;TZID=UTC:20250202T170000
DTSTAMP:20260421T153626
CREATED:20250122T193902Z
LAST-MODIFIED:20250122T193902Z
UID:4742-1738497600-1738515600@restoretheheart.org
SUMMARY:45-Mins Reiki Healing Session
DESCRIPTION:Reiki Master Kelly Joachim will be at Sacred Space Meditation offering 45-minute private reiki healing sessions.  Many of you are familiar with Kelly’s beautiful work from our monthly event and have inquired about private sessions. Here is your opportunity! Please email Kelly HERE to schedule a session\, they are sure to fill fast! \nSunday\, February 2nd from 12pm – 4pm EST | $111 USD
URL:https://restoretheheart.org/event/64/
LOCATION:Sacred Space Meditation\, 32 Washington St\, Tenafly\, NJ\, 07670
CATEGORIES:Special Event
ATTACH;FMTTYPE=image/jpeg:https://restoretheheart.org/wp-content/uploads/2025/01/Restore-With-Kelly-1.jpg
END:VEVENT
END:VCALENDAR