BEGIN:VCALENDAR
VERSION:2.0
PRODID:-//Restore The Heart - ECPv6.15.20//NONSGML v1.0//EN
CALSCALE:GREGORIAN
METHOD:PUBLISH
X-ORIGINAL-URL:https://restoretheheart.org
X-WR-CALDESC:Events for Restore The Heart
REFRESH-INTERVAL;VALUE=DURATION:PT1H
X-Robots-Tag:noindex
X-PUBLISHED-TTL:PT1H
BEGIN:VTIMEZONE
TZID:America/New_York
BEGIN:DAYLIGHT
TZOFFSETFROM:-0500
TZOFFSETTO:-0400
TZNAME:EDT
DTSTART:20230312T070000
END:DAYLIGHT
BEGIN:STANDARD
TZOFFSETFROM:-0400
TZOFFSETTO:-0500
TZNAME:EST
DTSTART:20231105T060000
END:STANDARD
BEGIN:DAYLIGHT
TZOFFSETFROM:-0500
TZOFFSETTO:-0400
TZNAME:EDT
DTSTART:20240310T070000
END:DAYLIGHT
BEGIN:STANDARD
TZOFFSETFROM:-0400
TZOFFSETTO:-0500
TZNAME:EST
DTSTART:20241103T060000
END:STANDARD
BEGIN:DAYLIGHT
TZOFFSETFROM:-0500
TZOFFSETTO:-0400
TZNAME:EDT
DTSTART:20250309T070000
END:DAYLIGHT
BEGIN:STANDARD
TZOFFSETFROM:-0400
TZOFFSETTO:-0500
TZNAME:EST
DTSTART:20251102T060000
END:STANDARD
END:VTIMEZONE
BEGIN:VEVENT
DTSTART;TZID=America/New_York:20240501T100000
DTEND;TZID=America/New_York:20240612T110000
DTSTAMP:20260420T222935
CREATED:20240418T173209Z
LAST-MODIFIED:20240423T144354Z
UID:4549-1714557600-1718190000@restoretheheart.org
SUMMARY:Reiki Chakra Tune-Up Series
DESCRIPTION:A 7-week in-depth series to ignite your chakras. We will begin on May 1 with the Root Chakra traversing upward and concluding at the Crown on June 12. \nThis invigorating 7-class series with Kelly at Sacred Space Meditation in Tenafly\, NJ is not to be missed! Take a deep dive into rebalancing your chakras\, the “wheels of energy” that govern our body and represent the physical\, emotional and spiritual aspects of ourselves. \nEach exploratory class will utilize the wondrous depths of reiki + sound to supercharge your chakras and facilitate a heightened state of awareness. \nWed May 1 – Wed June 12\n7- weekly classes from 10 – 11am \nThe price is $222 for the entire series and can not be broken up. There are no make-ups for missed classes.  \nTo sign up\, please click HERE. See you on Wednesday\, May 1st!
URL:https://restoretheheart.org/event/tune-up/
LOCATION:Sacred Space Meditation\, 32 Washington St\, Tenafly\, NJ\, 07670
CATEGORIES:Reiki Chakra Tune-Up Series
ATTACH;FMTTYPE=image/png:https://restoretheheart.org/wp-content/uploads/2024/04/STARSEED-CIRCLE-PNG-EVENTS-CALENDAR.png
END:VEVENT
END:VCALENDAR