BEGIN:VCALENDAR
VERSION:2.0
PRODID:-//Restore The Heart - ECPv6.15.20//NONSGML v1.0//EN
CALSCALE:GREGORIAN
METHOD:PUBLISH
X-WR-CALNAME:Restore The Heart
X-ORIGINAL-URL:https://restoretheheart.org
X-WR-CALDESC:Events for Restore The Heart
REFRESH-INTERVAL;VALUE=DURATION:PT1H
X-Robots-Tag:noindex
X-PUBLISHED-TTL:PT1H
BEGIN:VTIMEZONE
TZID:America/New_York
BEGIN:DAYLIGHT
TZOFFSETFROM:-0500
TZOFFSETTO:-0400
TZNAME:EDT
DTSTART:20230312T070000
END:DAYLIGHT
BEGIN:STANDARD
TZOFFSETFROM:-0400
TZOFFSETTO:-0500
TZNAME:EST
DTSTART:20231105T060000
END:STANDARD
BEGIN:DAYLIGHT
TZOFFSETFROM:-0500
TZOFFSETTO:-0400
TZNAME:EDT
DTSTART:20240310T070000
END:DAYLIGHT
BEGIN:STANDARD
TZOFFSETFROM:-0400
TZOFFSETTO:-0500
TZNAME:EST
DTSTART:20241103T060000
END:STANDARD
BEGIN:DAYLIGHT
TZOFFSETFROM:-0500
TZOFFSETTO:-0400
TZNAME:EDT
DTSTART:20250309T070000
END:DAYLIGHT
BEGIN:STANDARD
TZOFFSETFROM:-0400
TZOFFSETTO:-0500
TZNAME:EST
DTSTART:20251102T060000
END:STANDARD
END:VTIMEZONE
BEGIN:VEVENT
DTSTART;TZID=America/New_York:20241010T190000
DTEND;TZID=America/New_York:20241010T210000
DTSTAMP:20260421T210616
CREATED:20240920T183713Z
LAST-MODIFIED:20240920T183713Z
UID:4635-1728586800-1728594000@restoretheheart.org
SUMMARY:Reiki Restore & Soundbath
DESCRIPTION:A hands-on immersive journey through Sound and Reiki. Join Tania Gold and Kelly Joachim for this magical evening in the candlelit studio of Sacred Space Meditation (Tenafly\, NJ). \nReiki and Sound are two forms of vibrational medicine that help to rebalance and harmonize the mind\, body and spirit complexes. We’ll start with a guided meditation to prepare you for a transformative healing experience.  Reiki energy will heighten the sensory experience of the sound bath elevating you to a more peaceful and relaxed state. \nPlease register at least 2-hours in advance HERE (walk-ins are not guaranteed entry). See you on October 10th!
URL:https://restoretheheart.org/event/61/
LOCATION:Sacred Space Meditation\, 32 Washington St\, Tenafly\, NJ\, 07670
CATEGORIES:Reiki Soundbath
ATTACH;FMTTYPE=image/png:https://restoretheheart.org/wp-content/uploads/2024/01/STARSEED-CIRCLE-PNG-EVENTS-CALENDAR-1.png
END:VEVENT
END:VCALENDAR