BEGIN:VCALENDAR
VERSION:2.0
PRODID:-//Restore The Heart - ECPv6.15.20//NONSGML v1.0//EN
CALSCALE:GREGORIAN
METHOD:PUBLISH
X-WR-CALNAME:Restore The Heart
X-ORIGINAL-URL:https://restoretheheart.org
X-WR-CALDESC:Events for Restore The Heart
REFRESH-INTERVAL;VALUE=DURATION:PT1H
X-Robots-Tag:noindex
X-PUBLISHED-TTL:PT1H
BEGIN:VTIMEZONE
TZID:America/New_York
BEGIN:DAYLIGHT
TZOFFSETFROM:-0500
TZOFFSETTO:-0400
TZNAME:EDT
DTSTART:20230312T070000
END:DAYLIGHT
BEGIN:STANDARD
TZOFFSETFROM:-0400
TZOFFSETTO:-0500
TZNAME:EST
DTSTART:20231105T060000
END:STANDARD
BEGIN:DAYLIGHT
TZOFFSETFROM:-0500
TZOFFSETTO:-0400
TZNAME:EDT
DTSTART:20240310T070000
END:DAYLIGHT
BEGIN:STANDARD
TZOFFSETFROM:-0400
TZOFFSETTO:-0500
TZNAME:EST
DTSTART:20241103T060000
END:STANDARD
BEGIN:DAYLIGHT
TZOFFSETFROM:-0500
TZOFFSETTO:-0400
TZNAME:EDT
DTSTART:20250309T070000
END:DAYLIGHT
BEGIN:STANDARD
TZOFFSETFROM:-0400
TZOFFSETTO:-0500
TZNAME:EST
DTSTART:20251102T060000
END:STANDARD
END:VTIMEZONE
BEGIN:VEVENT
DTSTART;TZID=America/New_York:20240606T190000
DTEND;TZID=America/New_York:20240606T203000
DTSTAMP:20260422T065701
CREATED:20240529T195425Z
LAST-MODIFIED:20240529T195719Z
UID:4603-1717700400-1717705800@restoretheheart.org
SUMMARY:Solar Reiki Alignment
DESCRIPTION:The solar plexus chakra is known as our power center which governs our life’s purpose. It is associated with the sun and fire element\, fueling our motivation\, drive\, confidence and self-worth. \nThis class is designed to support you with integrating the influx of light from CMEs and heightened solar energies we are experiencing. Join Kelly in the candlelit studio for a mix of reiki\, sound and guided meditation to facilitate a greater solar alignment and supercharge your personal power. \n\nPlease register at least 2-hours in advance HERE (walk-ins are not guaranteed entry). See you on June 6th!
URL:https://restoretheheart.org/event/57/
LOCATION:Sacred Space Meditation\, 32 Washington St\, Tenafly\, NJ\, 07670
CATEGORIES:Reiki Soundbath,Special Event
ATTACH;FMTTYPE=image/jpeg:https://restoretheheart.org/wp-content/uploads/2024/05/STARSEED-CIRCLE-PNG-EVENTS-CALENDAR-3.jpg
END:VEVENT
END:VCALENDAR