BEGIN:VCALENDAR
VERSION:2.0
PRODID:-//Restore The Heart - ECPv6.15.20//NONSGML v1.0//EN
CALSCALE:GREGORIAN
METHOD:PUBLISH
X-ORIGINAL-URL:https://restoretheheart.org
X-WR-CALDESC:Events for Restore The Heart
REFRESH-INTERVAL;VALUE=DURATION:PT1H
X-Robots-Tag:noindex
X-PUBLISHED-TTL:PT1H
BEGIN:VTIMEZONE
TZID:America/New_York
BEGIN:DAYLIGHT
TZOFFSETFROM:-0500
TZOFFSETTO:-0400
TZNAME:EDT
DTSTART:20250309T070000
END:DAYLIGHT
BEGIN:STANDARD
TZOFFSETFROM:-0400
TZOFFSETTO:-0500
TZNAME:EST
DTSTART:20251102T060000
END:STANDARD
BEGIN:DAYLIGHT
TZOFFSETFROM:-0500
TZOFFSETTO:-0400
TZNAME:EDT
DTSTART:20260308T070000
END:DAYLIGHT
BEGIN:STANDARD
TZOFFSETFROM:-0400
TZOFFSETTO:-0500
TZNAME:EST
DTSTART:20261101T060000
END:STANDARD
BEGIN:DAYLIGHT
TZOFFSETFROM:-0500
TZOFFSETTO:-0400
TZNAME:EDT
DTSTART:20270314T070000
END:DAYLIGHT
BEGIN:STANDARD
TZOFFSETFROM:-0400
TZOFFSETTO:-0500
TZNAME:EST
DTSTART:20271107T060000
END:STANDARD
END:VTIMEZONE
BEGIN:VEVENT
DTSTART;TZID=America/New_York:20260419T100000
DTEND;TZID=America/New_York:20260419T110000
DTSTAMP:20260420T152757
CREATED:20260322T115036Z
LAST-MODIFIED:20260325T105223Z
UID:5113-1776592800-1776596400@restoretheheart.org
SUMMARY:Signature Sound Meditation
DESCRIPTION:We begin by taking an inward journey. Through visualization and breath work\, we awaken the senses and bring you fully present in your body as you float deeper into relaxation by being “bathed” in the vibration of crystal singing bowls. This meditation\, led by Kelly\, continues with guided imagery\, transporting you into a place of openness and insight. Feel the stresses of the day melting away\, being replaced by a sense of wholeness for the body and mind.\n\nPlease register at least 2-hours in advance HERE (walk-ins are not always guaranteed entry). See you on April 19th!\n\n—— \n“𝒯𝒽𝑒𝓇𝑒’𝓈 𝓂𝑜𝓇𝑒 𝒷𝑒𝓎𝑜𝓃𝒹 𝓉𝒽𝑒 𝓇𝑒𝑒𝒻”\nTikTok ✧ Instagram ✧ YouTube ✧ WhatsApp ✧ Telegram
URL:https://restoretheheart.org/event/105/
LOCATION:Sacred Space Meditation\, 32 Washington St\, Tenafly\, NJ\, 07670
CATEGORIES:Weekly Class
ATTACH;FMTTYPE=image/jpeg:https://restoretheheart.org/wp-content/uploads/2026/03/Sound-Bath-Journey-1.jpg
END:VEVENT
END:VCALENDAR